BEGIN:VCALENDAR
VERSION:2.0
PRODID:www.codnes.sk
BEGIN:VEVENT
UID:69e614cb0387b
DTSTART:20230416T200000Z
SEQUENCE:0
TRANSP:OPAQUE
LOCATION:Rimavská Sobota
SUMMARY:Zámbó Jimmy
CLASS:PUBLIC
DESCRIPTION:A Király dalai\n \nSzeretettel meghívjuk a kedves közönsé
 get Zámbó Jimmy és Peter Šrámek legszebb dala
DTSTAMP:20260420T115803Z
END:VEVENT
END:VCALENDAR