BEGIN:VCALENDAR
VERSION:2.0
PRODID:www.codnes.sk
BEGIN:VEVENT
UID:69e52affc513a
DTSTART:20260515T200000Z
SEQUENCE:0
TRANSP:OPAQUE
DTEND:20260515T235900Z
LOCATION:Nové Mesto nad Váhom
SUMMARY:Vrbovskí víťazi & Karpatské chrbáty
CLASS:PUBLIC
DESCRIPTION:Jediný špeciálny tohtoročný koncert Vrbovských víťazov 
 spolu s Karpatskými chrbátmi.Dva projekty \, d
DTSTAMP:20260419T192031Z
END:VEVENT
END:VCALENDAR