BEGIN:VCALENDAR
VERSION:2.0
PRODID:www.codnes.sk
BEGIN:VEVENT
UID:69e6155b219d2
DTSTART:20240806T190000Z
SEQUENCE:0
TRANSP:OPAQUE
DTEND:20240806T235900Z
LOCATION:Bratislava
SUMMARY:Utorkové tančiarne pri fontáne Rodina - B-Swing
CLASS:PUBLIC
DESCRIPTION:Príďte s&nbsp\;nami roztancovať fontánu! Zatancujte si s&nb
 sp\;B-Swingom\,s&nbsp\;Karloveským tanečným c
DTSTAMP:20260420T120027Z
END:VEVENT
END:VCALENDAR