BEGIN:VCALENDAR
VERSION:2.0
PRODID:www.codnes.sk
BEGIN:VEVENT
UID:69ebb890a2c11
DTSTART:20260724T170000Z
SEQUENCE:0
TRANSP:OPAQUE
DTEND:20260726T040000Z
LOCATION:Tužina
SUMMARY:Tužina Gro(o)ve 2026
CLASS:PUBLIC
DESCRIPTION:11. ročník multižánrového festivalu alternatívnej hudby s
 a uskutoční 24. - 26. júla 2026 v prírodnom
DTSTAMP:20260424T183808Z
END:VEVENT
END:VCALENDAR