BEGIN:VCALENDAR
VERSION:2.0
PRODID:www.codnes.sk
BEGIN:VEVENT
UID:69ebb87a1a597
DTSTART:20260619T140000Z
SEQUENCE:0
TRANSP:OPAQUE
LOCATION:Trenčín
SUMMARY:Trenčiansko Leto 2026
CLASS:PUBLIC
DESCRIPTION:&amp\;#127881\; Prvý ročník festivalu Trenčianske leto 2026
  prinesie do mesta deň plný hudby\, energie
DTSTAMP:20260424T183746Z
END:VEVENT
END:VCALENDAR