BEGIN:VCALENDAR
VERSION:2.0
PRODID:www.codnes.sk
BEGIN:VEVENT
UID:69ebcd1be0113
DTSTART:20230623T170000Z
SEQUENCE:0
TRANSP:OPAQUE
LOCATION:Abrahám
SUMMARY:TOPFEST 2023
CLASS:PUBLIC
DESCRIPTION:Najväčší ROCK-METAL-PUNK festival TOPFEST znova otvorí svo
 je brány pre priaznivcov týchto hudobných
DTSTAMP:20260424T200547Z
END:VEVENT
END:VCALENDAR