BEGIN:VCALENDAR
VERSION:2.0
PRODID:www.codnes.sk
BEGIN:VEVENT
UID:69ebb8c94e6d1
DTSTART:20260621T100000Z
SEQUENCE:0
TRANSP:OPAQUE
LOCATION:Trenčín
SUMMARY:Spolufest 2026
CLASS:PUBLIC
DESCRIPTION:Spolufest 2026\nSpoluFest 2026 bude dvojdňový komunitný fe
 stival\, ktorý sa uskutoční v dňoch 20. – 21
DTSTAMP:20260424T183905Z
END:VEVENT
END:VCALENDAR