BEGIN:VCALENDAR
VERSION:2.0
PRODID:www.codnes.sk
BEGIN:VEVENT
UID:69e52affe5808
DTSTART:20260509T180000Z
SEQUENCE:0
TRANSP:OPAQUE
DTEND:20260509T220000Z
LOCATION:Nové Mesto nad Váhom
SUMMARY:SOUL: Vibes - DJ EKG & Marko Mazag
CLASS:PUBLIC
DESCRIPTION:Spojenie hudby\, skvelej atmosféry\, drinkov a chutí \, ktor
 í ťa naladia na ten správny flow&nbsp\;Od 18
DTSTAMP:20260419T192031Z
END:VEVENT
END:VCALENDAR