BEGIN:VCALENDAR
VERSION:2.0
PRODID:www.codnes.sk
BEGIN:VEVENT
UID:69ea8d026cf8a
DTSTART:20220819T190000Z
SEQUENCE:0
TRANSP:OPAQUE
DTEND:20220819T230000Z
LOCATION:Nové Mesto nad Váhom
SUMMARY:Slobodná Európa\, Chiki Liki Tua - 19.8 \, Zelená Voda
CLASS:PUBLIC
DTSTAMP:20260423T212002Z
END:VEVENT
END:VCALENDAR