BEGIN:VCALENDAR
VERSION:2.0
PRODID:www.codnes.sk
BEGIN:VEVENT
UID:69ecc1302cb0e
DTSTART:20260428T190000Z
SEQUENCE:0
TRANSP:OPAQUE
LOCATION:Stará Turá
SUMMARY:SHIRLEY VALENTINE - Divadelné predstavenia
CLASS:PUBLIC
DESCRIPTION:Autor:Willy RussellPreklad:Alexandra RuppeldtováRéžia:Michal
  VajdičkaKostýmy:Katarína HolláScéna:Pav
DTSTAMP:20260425T132712Z
END:VEVENT
END:VCALENDAR