BEGIN:VCALENDAR
VERSION:2.0
PRODID:www.codnes.sk
BEGIN:VEVENT
UID:69e52c1d4eeea
DTSTART:20260425T200000Z
SEQUENCE:0
TRANSP:OPAQUE
DTEND:20260425T235900Z
LOCATION:Nové Mesto nad Váhom
SUMMARY:Scott Hamilton & NBS Trio
CLASS:PUBLIC
DESCRIPTION:Do nášho klubu smeruje ďalšie svetové jazzové meno Scott 
 Hamilton z USA.Tentokrát ho bude sprevádza
DTSTAMP:20260419T192517Z
END:VEVENT
END:VCALENDAR