BEGIN:VCALENDAR
VERSION:2.0
PRODID:www.codnes.sk
BEGIN:VEVENT
UID:69ebb8ed7570b
DTSTART:20260522T150000Z
SEQUENCE:0
TRANSP:OPAQUE
LOCATION:Trenčín
SUMMARY:Rokáč Trenčín
CLASS:PUBLIC
DESCRIPTION:ROKÁČ 2026 predstaví výber z popredných slovenských rocko
 vých kapiel! Zažite nezabudnuteľné koncer
DTSTAMP:20260424T183941Z
END:VEVENT
END:VCALENDAR