BEGIN:VCALENDAR
VERSION:2.0
PRODID:www.codnes.sk
BEGIN:VEVENT
UID:69e52b5b48bff
DTSTART:20260508T200000Z
SEQUENCE:0
TRANSP:OPAQUE
DTEND:20260508T235900Z
LOCATION:Trenčín
SUMMARY:POCTA 80 - Honza Nedvěd
CLASS:PUBLIC
DESCRIPTION:POCTA 80 - Honza Nedvěd\, 8.mája 2026\, Mestská športová h
 ala TrenčínKoncert Honza Nedvěd &amp\; Příbuz
DTSTAMP:20260419T192203Z
END:VEVENT
END:VCALENDAR