BEGIN:VCALENDAR
VERSION:2.0
PRODID:www.codnes.sk
BEGIN:VEVENT
UID:69e614451c4d5
DTSTART:20200425T230000Z
SEQUENCE:0
TRANSP:OPAQUE
LOCATION:Námestovo
SUMMARY:PILC 2086 IMPERIA-M
CLASS:PUBLIC
DESCRIPTION:——— &amp\;#9733\;&amp\;#9733\;&amp\;#8677\; PIL C ‘’2
 086’’ &amp\;#8676\;&amp\;#9733\;&amp\;#9733\; ———\nPIL C vyr
DTSTAMP:20260420T115549Z
END:VEVENT
END:VCALENDAR