BEGIN:VCALENDAR
VERSION:2.0
PRODID:www.codnes.sk
BEGIN:VEVENT
UID:69e52a181b6be
DTSTART:20260424T223000Z
SEQUENCE:0
TRANSP:OPAQUE
LOCATION:Partizánske
SUMMARY:PIL C - NARODENINY DOMA - INFINITY CLUB PARTIZÁNSKE
CLASS:PUBLIC
DESCRIPTION:Návrat domov. Pil C – jeden z najlepších interpretov – p
 richádza osláviť svoje narodeniny do svojho
DTSTAMP:20260419T191640Z
END:VEVENT
END:VCALENDAR