BEGIN:VCALENDAR
VERSION:2.0
PRODID:www.codnes.sk
BEGIN:VEVENT
UID:69e52c29df2e0
DTSTART:20260424T190000Z
SEQUENCE:0
TRANSP:OPAQUE
LOCATION:Prievidza
SUMMARY:Pavol Hammel - Kam a za čím Tour
CLASS:PUBLIC
DESCRIPTION:Pavol Hammel - Kam a za čím Tour 2025/2026\nPočas celého r
 oka 2024 si Pavol Hammel so skupinou Prúdy
DTSTAMP:20260419T192529Z
END:VEVENT
END:VCALENDAR