BEGIN:VCALENDAR
VERSION:2.0
PRODID:www.codnes.sk
BEGIN:VEVENT
UID:69ebb86a8c845
DTSTART:20260725T143000Z
SEQUENCE:0
TRANSP:OPAQUE
LOCATION:Trenčín
SUMMARY:OKOLO TRENČÍNA festival dychových hudieb
CLASS:PUBLIC
DESCRIPTION:V Trenčíne sa koná obľúbený festival dychových hudieb s 
 názvom „Okolo Trenčína“. Tento festival má d
DTSTAMP:20260424T183730Z
END:VEVENT
END:VCALENDAR