BEGIN:VCALENDAR
VERSION:2.0
PRODID:www.codnes.sk
BEGIN:VEVENT
UID:69e4e47a116a6
DTSTART:20260316T190000Z
SEQUENCE:0
TRANSP:OPAQUE
LOCATION:Nováky
SUMMARY:Milión
CLASS:PUBLIC
DESCRIPTION:Milión\nVilém Dubnička\n \nRéžia - Jakub Nvota\nHrajú - 
 Braňo Deak a Juraj Bača\nHudba - Mário Buzzi\nProd
DTSTAMP:20260419T141938Z
END:VEVENT
END:VCALENDAR