BEGIN:VCALENDAR
VERSION:2.0
PRODID:www.codnes.sk
BEGIN:VEVENT
UID:69e613d1c4b9b
DTSTART:20251205T170000Z
SEQUENCE:0
TRANSP:OPAQUE
LOCATION:Martin
SUMMARY:MHA MARTIN vs. HC MUŠLA Topoľčany
CLASS:PUBLIC
DESCRIPTION:V piatok 5. decembra 2025 o 17:00 na Podháji privítame tím H
 C MUŠLA Topoľčany. Príďte povzbudiť mar
DTSTAMP:20260420T115353Z
END:VEVENT
END:VCALENDAR