BEGIN:VCALENDAR
VERSION:2.0
PRODID:www.codnes.sk
BEGIN:VEVENT
UID:69eb9a598de6a
DTSTART:20230831T210000Z
SEQUENCE:0
TRANSP:OPAQUE
LOCATION:Nové Mesto nad Váhom
SUMMARY:LODENICA 2023
CLASS:PUBLIC
DESCRIPTION:Fanúšikovia country\, folkovej či rockovej piesne všetkých
  vekových kategórií sa stretnú v roku 2023
DTSTAMP:20260424T162913Z
END:VEVENT
END:VCALENDAR