BEGIN:VCALENDAR
VERSION:2.0
PRODID:www.codnes.sk
BEGIN:VEVENT
UID:69e52c23007ba
DTSTART:20260509T190000Z
SEQUENCE:0
TRANSP:OPAQUE
DTEND:20260509T235900Z
LOCATION:Partizánske
SUMMARY:Koncert Korben Dallas vo Fabrike 61
CLASS:PUBLIC
DESCRIPTION:Kapela Korben Dallas prichádza prvýkrát aj do Partizánskeho
 !&nbsp\;V jedinečných priestoroch bývalých
DTSTAMP:20260419T192523Z
END:VEVENT
END:VCALENDAR