BEGIN:VCALENDAR
VERSION:2.0
PRODID:www.codnes.sk
BEGIN:VEVENT
UID:69e52a21d74ce
DTSTART:20260511T190000Z
SEQUENCE:0
TRANSP:OPAQUE
LOCATION:Trenčín
SUMMARY:HUDBA ENNIO MORRICONE PRI SVIEČKACH
CLASS:PUBLIC
DESCRIPTION:Koncert filmovej hudby Ennia Morriconeho pri sviečkach. Teši
 ť sa môžete na neopakovateľnú atmosféru
DTSTAMP:20260419T191649Z
END:VEVENT
END:VCALENDAR