BEGIN:VCALENDAR
VERSION:2.0
PRODID:www.codnes.sk
BEGIN:VEVENT
UID:69e745d5e775a
DTSTART:20220714T110000Z
SEQUENCE:0
TRANSP:OPAQUE
LOCATION:Bratislava
SUMMARY:HRAVÁ  GRAFIKA
CLASS:PUBLIC
DESCRIPTION:Letné tvorivé workshopyLETNÉ AKTIVITY - HRAVÁ GRAFIKAPočas
  letných dní vás radi uvítame na tvorivých
DTSTAMP:20260421T093933Z
END:VEVENT
END:VCALENDAR