BEGIN:VCALENDAR
VERSION:2.0
PRODID:www.codnes.sk
BEGIN:VEVENT
UID:69e74e336f53a
DTSTART:20260315T153000Z
SEQUENCE:0
TRANSP:OPAQUE
LOCATION:Bošany
SUMMARY:Folko a Fialka - Čarovné slovíčka
CLASS:PUBLIC
DESCRIPTION:&amp\;#127926\; Pesničky pre najmenších – Čarovné slov
 íčka!\nAhojte chrobáčikovia\,\nSme nová spievajúca
DTSTAMP:20260421T101515Z
END:VEVENT
END:VCALENDAR