BEGIN:VCALENDAR
VERSION:2.0
PRODID:www.codnes.sk
BEGIN:VEVENT
UID:69ea11639d4f1
DTSTART:20260425T160000Z
SEQUENCE:0
TRANSP:OPAQUE
DTEND:20260425T200000Z
LOCATION:Dubnica nad Váhom
SUMMARY:FK Spartak Dubnica nad Váhom vs. AFC Nové Mesto nad Váhom
CLASS:PUBLIC
DTSTAMP:20260423T123235Z
END:VEVENT
END:VCALENDAR