BEGIN:VCALENDAR
VERSION:2.0
PRODID:www.codnes.sk
BEGIN:VEVENT
UID:69e5e0d0184c8
DTSTART:20260303T180000Z
SEQUENCE:0
TRANSP:OPAQUE
DTEND:20260303T220000Z
LOCATION:Nové Mesto nad Váhom
SUMMARY:Expedičná kamera 26 - 8 dobrodružných filmov
CLASS:PUBLIC
DESCRIPTION:Vyrazte s nami za hranice známeho – osem filmov Expedičnej 
 kamery 2026 vás vezme do Himalájí\, Patagó
DTSTAMP:20260420T081616Z
END:VEVENT
END:VCALENDAR