BEGIN:VCALENDAR
VERSION:2.0
PRODID:www.codnes.sk
BEGIN:VEVENT
UID:69e84cf61b866
DTSTART:20230924T210000Z
SEQUENCE:0
TRANSP:OPAQUE
LOCATION:Trenčianske Teplice
SUMMARY:Divadelná detektívka KRVAVÉ PENIAZE
CLASS:PUBLIC
DESCRIPTION:Napínavé scény\, tajomstvá\, krimi – nechajte sa očariť
  skvelo spracovaným príbehom v divadelnej detek
DTSTAMP:20260422T042214Z
END:VEVENT
END:VCALENDAR