BEGIN:VCALENDAR
VERSION:2.0
PRODID:www.codnes.sk
BEGIN:VEVENT
UID:69e6145b770b0
DTSTART:20220523T210000Z
SEQUENCE:0
TRANSP:OPAQUE
LOCATION:Bratislava
SUMMARY:DIE LIEBE / Quasars Ensemble
CLASS:PUBLIC
DESCRIPTION:13. hlava (kapitola) listu (tzv. Hymnus na lásku) patrí k na
 jcitovanejším častiam Biblie a dočkala s
DTSTAMP:20260420T115611Z
END:VEVENT
END:VCALENDAR