BEGIN:VCALENDAR
VERSION:2.0
PRODID:www.codnes.sk
BEGIN:VEVENT
UID:69e739e6edc9d
DTSTART:20250824T160000Z
SEQUENCE:0
TRANSP:OPAQUE
DTEND:20250824T165500Z
LOCATION:Trenčín
SUMMARY:Detský divadelný klub: Stôl nad zlato
CLASS:PUBLIC
DESCRIPTION:Preklep to nie je. Hlavnou postavou je naozaj stôl. Stôl ako 
 most medzi generáciami. Stôl ako úložis
DTSTAMP:20260421T084838Z
END:VEVENT
END:VCALENDAR