BEGIN:VCALENDAR
VERSION:2.0
PRODID:www.codnes.sk
BEGIN:VEVENT
UID:69ebb86ab18b6
DTSTART:20260820T150000Z
SEQUENCE:0
TRANSP:OPAQUE
LOCATION:Nové Mesto nad Váhom
SUMMARY:COUNTRY LODENICA 2026
CLASS:PUBLIC
DESCRIPTION:Festival\, ktorý zbližuje!\nĎalší ročník obľúbeného f
 estivalu Country Lodenica sa uskutoční v dátume 2
DTSTAMP:20260424T183730Z
END:VEVENT
END:VCALENDAR