BEGIN:VCALENDAR
VERSION:2.0
PRODID:www.codnes.sk
BEGIN:VEVENT
UID:69ebb7f9418e2
DTSTART:20260718T150000Z
SEQUENCE:0
TRANSP:OPAQUE
LOCATION:Beckov
SUMMARY:Beckovské slávnosti 2026
CLASS:PUBLIC
DESCRIPTION:BECKOVSKÉ SLÁVNOSTI sú jedinečným podujatím svojho druhu
  na Slovensku. Pod majestátnym hradom v príj
DTSTAMP:20260424T183537Z
END:VEVENT
END:VCALENDAR