BEGIN:VCALENDAR
VERSION:2.0
PRODID:www.codnes.sk
BEGIN:VEVENT
UID:69ebb7a5981de
DTSTART:20260626T190000Z
SEQUENCE:0
TRANSP:OPAQUE
LOCATION:Nové Mesto nad Váhom
SUMMARY:BARIS ROCK FEST 2026
CLASS:PUBLIC
DTSTAMP:20260424T183413Z
END:VEVENT
END:VCALENDAR