BEGIN:VCALENDAR
VERSION:2.0
PRODID:www.codnes.sk
BEGIN:VEVENT
UID:69ebb8c93f518
DTSTART:20260627T160000Z
SEQUENCE:0
TRANSP:OPAQUE
LOCATION:Bánovce nad Bebravou
SUMMARY:BÁNOVSKÝ LETNÝ FESTIVAL 2026
CLASS:PUBLIC
DESCRIPTION:Štvrtý ročník Bánovského festivalu prinesie do Bánoviec
  nad Bebravou ďalšiu dávku hudby\, energie a s
DTSTAMP:20260424T183905Z
END:VEVENT
END:VCALENDAR