BEGIN:VCALENDAR
VERSION:2.0
PRODID:www.codnes.sk
BEGIN:VEVENT
UID:69ed0014258c9
DTSTART:20230929T210000Z
SEQUENCE:0
TRANSP:OPAQUE
LOCATION:Myjava
SUMMARY:23/24 Spartak Myjava - MŠK Žilina B
CLASS:PUBLIC
DTSTAMP:20260425T175532Z
END:VEVENT
END:VCALENDAR