BEGIN:VCALENDAR
VERSION:2.0
PRODID:www.codnes.sk
BEGIN:VEVENT
UID:69e811c415742
DTSTART:20240301T200000Z
SEQUENCE:0
TRANSP:OPAQUE
LOCATION:Myjava
SUMMARY:23/24 Spartak Myjava - FC Petržalka
CLASS:PUBLIC
DTSTAMP:20260422T000940Z
END:VEVENT
END:VCALENDAR